BEGIN:VCALENDAR
VERSION:2.0
PRODID:-//wp-events-plugin.com//7.2.3.1//EN
TZID:Europe/Berlin
X-WR-TIMEZONE:Europe/Berlin
BEGIN:VEVENT
UID:12@fahrschul-gmbh-wittstock.de
DTSTART;TZID=Europe/Berlin:20250407T170000
DTEND;TZID=Europe/Berlin:20250416T200000
DTSTAMP:20250307T103242Z
URL:https://fahrschul-gmbh-wittstock.de/events/theorieunterricht-pritzwalk
 -kompaktlehrgang-alle-klassen-2/
SUMMARY:Theorieunterricht Pritzwalk / Kompaktlehrgang (Alle Klassen)
DESCRIPTION:THEORIEUNTERRICHT Pritzwalk KOMPAKTLEHRGANG (ALLE KLASSEN)\n&nb
 sp\;\n\n&nbsp\;
ATTACH;FMTTYPE=image/jpeg:https://fahrschul-gmbh-wittstock.de/wp-content/u
 ploads/2025/01/Theorieunterricht_Pritzwalk.jpg
CATEGORIES:Theorie Pritzwalk,Theorie Unterricht
LOCATION:ZWEIGSTELLE / Pritzwalk\, Putlitzer Str. 30\, Pritzwalk\, Brandenb
 urg\, 16928 \, Deutschland
X-APPLE-STRUCTURED-LOCATION;VALUE=URI;X-ADDRESS=Putlitzer Str. 30\, Pritzwa
 lk\, Brandenburg\, 16928 \, Deutschland;X-APPLE-RADIUS=100;X-TITLE=ZWEIGST
 ELLE / Pritzwalk:geo:0,0
END:VEVENT
BEGIN:VTIMEZONE
TZID:Europe/Berlin
X-LIC-LOCATION:Europe/Berlin
BEGIN:DAYLIGHT
DTSTART:20250330T030000
TZOFFSETFROM:+0100
TZOFFSETTO:+0200
TZNAME:CEST
END:DAYLIGHT
END:VTIMEZONE
END:VCALENDAR